BEGIN:VCALENDAR
VERSION:2.0
PRODID:-//ChamberMaster//Event Calendar 2.0//EN
METHOD:PUBLISH
X-PUBLISHED-TTL:P3D
REFRESH-INTERVAL:P3D
CALSCALE:GREGORIAN
BEGIN:VEVENT
DTSTART:20150213T170000Z
DTEND:20150213T181500Z
X-MICROSOFT-CDO-ALLDAYEVENT:FALSE
SUMMARY:Tricia Spear Recovery Fund Luncheon-A Tribute to Tricia
DESCRIPTION:A special luncheon will be held for Tricia . This Event will be limited to 150 tickets which are now available. Advanced ticket sales will be at:\n\nUnited Community Bank in Blairsville\n\nBlairsville City Hall\n\nHumane Society Thrift Store in Blairsville\n\nTowns County Chamber of Commerce.\n\n\n\nTickets will also be available at the door on Friday prior to the luncheon. If you are unable to attend\, donations for Tricia will also be accepted at the above locations. Please help support Tricia's needs at this time!\n\n\n\nThe lunch will be plated and individually served rather than a buffet. This approach eliminates people standing in line thus the can immediately begin their meal. The menu will be: roasted pork tenderloin\, mashed potatoes & gravy\, green veggies\, coffee\, tea\, and desert.
X-ALT-DESC;FMTTYPE=text/html:<p>A special luncheon will be held for Tricia . This Event will be limited to 150 tickets which are now available. Advanced ticket sales will be at:</p>\n\n<p>United Community Bank in Blairsville<br />\nBlairsville City Hall<br />\nHumane Society Thrift Store in Blairsville<br />\nTowns County Chamber of Commerce.<br />\n<br />\nTickets will also be available at the door on Friday prior to the luncheon. If you are unable to attend\, donations for Tricia will also be accepted at the above locations. Please help support Tricia&#39\;s needs at this time!<br />\n<br />\nThe lunch will be plated and individually served rather than a buffet. This approach eliminates people standing in line thus the can immediately begin their meal. The menu will be: roasted pork tenderloin\, mashed potatoes &amp\; gravy\, green veggies\, coffee\, tea\, and desert.&nbsp\;<br />\n&nbsp\;</p>\n
LOCATION:Union County Community Center 129 Union County Recreation Rd.
UID:e.256.37073
SEQUENCE:3
DTSTAMP:20260423T230408Z
URL:https://members.visitblairsvillega.com/events/details/tricia-spear-recovery-fund-luncheon-a-tribute-to-tricia-02-13-2015-37073
END:VEVENT

END:VCALENDAR
