BEGIN:VCALENDAR
VERSION:2.0
PRODID:-//ChamberMaster//Event Calendar 2.0//EN
METHOD:PUBLISH
X-PUBLISHED-TTL:P3D
REFRESH-INTERVAL:P3D
CALSCALE:GREGORIAN
BEGIN:VEVENT
DTSTART:20171013T150000Z
DTEND:20171013T160000Z
X-MICROSOFT-CDO-ALLDAYEVENT:FALSE
SUMMARY:TRIPLE Ribbon Cutting for Granny's House\, 15 Below\, and Dixie Confexions!
DESCRIPTION:A special TRIPLE ribbon cutting celebration will be held for Granny's House\, 15 Below\, and Dixie Confexions.  \n\n\n\nGranny's House has a variety of gifts and home decor to include hand-made florals\, signs\, and pillows for your home away from home\, cabin\, or office. Many specialty items to include hand-made cards and candles. \n\n\n\n15 Below is a ladies' boutique on The Square with everything $15 and below! Dresses\, shirts\, leggings\, plus sizes clothing and more! Lovely accessories to include scarfs\, gloves\, hats\, and jewelry.\n\n\n\nDixie Confexions is decadence meets imagination in cupcakes\, cakes\, and tarts. Recipes are created by Chef Rick and luxuriously decorated by Culinary Artist Jody. \n\n\n\nEveryone is invited to this special event!
X-ALT-DESC;FMTTYPE=text/html:<p style="margin: 0px 0px 11px\;"><span style="font-family:arial\;"><span style="font-size:14px\;">A special TRIPLE ribbon cutting celebration will be held for <em><span style="color:#222222\;">Granny&rsquo\;s House\, 15 Below\, and Dixie Confexions</span></em><em>.&nbsp\; </em><br />\n<br />\n<u><em>Granny&rsquo\;s House</em></u><em> </em>has <span style="color:#222222\;">a variety of gifts and home decor to include hand-made florals\, signs\, and pillows for your home away from home\, cabin\, or office. Many specialty items to include hand-made cards and candles. </span><br />\n<br />\n<u><em><span style="color:#222222\;">15 Below</span></em></u><span style="color:#222222\;"> is a ladies&#39\; boutique on The Square with everything $15 and below! Dresses\, shirts\, leggings\, plus sizes clothing and more! Lovely accessories to include scarfs\, gloves\, hats\, and jewelry.</span><br />\n<br />\n<u><em><span style="color:#222222\;">Dixie Confexions</span></em></u><span style="color:#222222\;"> is decadence meets imagination in cupcakes\, cakes\, and tarts. Recipes are created by Chef Rick and luxuriously decorated by Culinary Artist Jody. </span><br />\n<br />\nEveryone is invited to this special event!</span></span></p>\n
LOCATION:40 Town Square (Rogers Building\, behind Cabin Coffee) Blairsville\, GA 30512
UID:e.256.75775
SEQUENCE:3
DTSTAMP:20260419T160532Z
URL:https://members.visitblairsvillega.com/events/details/triple-ribbon-cutting-for-granny-s-house-15-below-and-dixie-confexions-75775
END:VEVENT

END:VCALENDAR
