BEGIN:VCALENDAR
VERSION:2.0
PRODID:-//ChamberMaster//Event Calendar 2.0//EN
METHOD:PUBLISH
X-PUBLISHED-TTL:P3D
REFRESH-INTERVAL:P3D
CALSCALE:GREGORIAN
BEGIN:VEVENT
DTSTART:20140718T233000Z
DTEND:20140719T020000Z
X-MICROSOFT-CDO-ALLDAYEVENT:FALSE
SUMMARY:Triumphant Quartet
DESCRIPTION:Formed in 2002\, the then named Integrity Quartet began their ministry together at the Louise Mandrell Theater in Pigeon Forge\, Tennessee. In December of 2004\, after a nationwide contest to submit entries\, Integrity Quartet changed their name to Triumphant Quartet. In 2009\, 2010\, 2011 and 2012\, Triumphant was voted by the Singing News fan awards as Favorite Male Quartet of the year for the fourth consecutive year.In 2009\, Triumphant received a GRAMMY nomination for Best Southern\, Country or Bluegrass Gospel Album\, for their release\, Everyday.
X-ALT-DESC;FMTTYPE=text/html:Formed in 2002\, the then named Integrity Quartet began their ministry together at the Louise Mandrell Theater in Pigeon Forge\, Tennessee. In December of 2004\, after a nationwide contest to submit entries\, Integrity Quartet changed their name to Triumphant Quartet. In 2009\, 2010\, 2011 and 2012\, Triumphant was voted by the Singing News fan awards as Favorite Male Quartet of the year for the fourth consecutive year.In 2009\, Triumphant received a GRAMMY nomination for Best Southern\, Country or Bluegrass Gospel Album\, for their release\, Everyday.
LOCATION:The Smoky Mountain Center for the Performing Arts 1028 Georgia Road Franklin\, NC 28734 Hours of Operation (Tickets/Info): Monday - Friday 9:30am - 6:30pm\; Saturday 11:00am - 4:00pm Ticket Information: http://www.greatmountainmusic.com/buy-tickets.asp Seating: http://www.greatmountainmusic.com/seating.asp Parking: There is limited parking available at the theater. Overflow parking is available directly below the theater at the Macon County Recreational Park. Shuttle service is available for some shows. Please call ahead to determine if the shuttle is operating for a certain show. Directions: http://www.greatmountainmusic.com/directions.asp
UID:e.256.25353
SEQUENCE:3
DTSTAMP:20260424T091513Z
URL:https://members.visitblairsvillega.com/events/details/triumphant-quartet-07-18-2014-25353
END:VEVENT

END:VCALENDAR
