BEGIN:VCALENDAR
VERSION:2.0
PRODID:-//ChamberMaster//Event Calendar 2.0//EN
METHOD:PUBLISH
X-PUBLISHED-TTL:P3D
REFRESH-INTERVAL:P3D
CALSCALE:GREGORIAN
BEGIN:VEVENT
DTSTART:20170302T233000Z
DTEND:20170303T003000Z
X-MICROSOFT-CDO-ALLDAYEVENT:FALSE
SUMMARY:Trivia At The View
DESCRIPTION:Join us for trivia at The View Grill.\n\nThursday March 2nd.\n\nTrivia Starts at 6:30pm
X-ALT-DESC;FMTTYPE=text/html:Join us&nbsp\;for trivia&nbsp\;at The View Grill.<br />\nThursday March 2nd.<br />\nTrivia Starts at 6:30pm
LOCATION:Union County Community Center 129 Union County Rec Rd Blairsville
UID:e.256.68431
SEQUENCE:3
DTSTAMP:20260420T042225Z
URL:https://members.visitblairsvillega.com/events/details/trivia-at-the-view-68431
END:VEVENT

END:VCALENDAR
