BEGIN:VCALENDAR
VERSION:2.0
PRODID:-//ChamberMaster//Event Calendar 2.0//EN
METHOD:PUBLISH
X-PUBLISHED-TTL:P3D
REFRESH-INTERVAL:P3D
CALSCALE:GREGORIAN
BEGIN:VEVENT
DTSTART:20141023T223000Z
DTEND:20141023T233000Z
X-MICROSOFT-CDO-ALLDAYEVENT:FALSE
SUMMARY:Trivia At The View***CANCELED****
DESCRIPTION:***CANCELED****\n\nJoin us for trivia at The View Grill.
X-ALT-DESC;FMTTYPE=text/html:***CANCELED****<br />\nJoin us&nbsp\;for trivia&nbsp\;at The View Grill.<br />\n&nbsp\;
LOCATION:Union County Community Center 129 Union County Rec Rd Blairsville
UID:e.256.27263
SEQUENCE:3
DTSTAMP:20260424T045126Z
URL:https://members.visitblairsvillega.com/events/details/trivia-at-the-view-canceled-10-23-2014-27263
END:VEVENT

END:VCALENDAR
