BEGIN:VCALENDAR
VERSION:2.0
PRODID:-//ChamberMaster//Event Calendar 2.0//EN
METHOD:PUBLISH
X-PUBLISHED-TTL:P3D
REFRESH-INTERVAL:P3D
CALSCALE:GREGORIAN
BEGIN:VEVENT
DTSTART:20160519T223000Z
DTEND:20160520T003000Z
X-MICROSOFT-CDO-ALLDAYEVENT:FALSE
SUMMARY:Trivia at The View Grill
DESCRIPTION:The View Grill is excited Trivia at the View is back. Hope you can join us.
X-ALT-DESC;FMTTYPE=text/html:The View Grill is excited Trivia at the View is back. Hope you can join us.
LOCATION:The View Grill at Butternut Creek Golf Course
UID:e.256.50609
SEQUENCE:3
DTSTAMP:20260421T002306Z
URL:https://members.visitblairsvillega.com/events/details/trivia-at-the-view-grill-05-19-2016-50609
END:VEVENT

END:VCALENDAR
