BEGIN:VCALENDAR
VERSION:2.0
PRODID:-//ChamberMaster//Event Calendar 2.0//EN
METHOD:PUBLISH
X-PUBLISHED-TTL:P3D
REFRESH-INTERVAL:P3D
CALSCALE:GREGORIAN
BEGIN:VEVENT
DTSTART:20141029T213000Z
DTEND:20141030T000000Z
X-MICROSOFT-CDO-ALLDAYEVENT:FALSE
SUMMARY:Trunk or Treat
DESCRIPTION:House of PrayerTrunk or Treat\n\nWednesday\, October 29th\n\n5:30pm - 8:00pm\n\nWe are providing a safe environment for the children of the community to trick or treat and have a fun filled night.\n\nHot Dogs & Popcorn\n\nVariety of games and Hayrides are some of the other activities that will be taking place.\n\n\n\nWe need Trunks! All you have to do is Come\, Decorate your trunk and pass your treats. This is a great way to promote your business. Last year we had approximately 500 children\, most accompanied by their parents. You are welcome to attach a business card or other promotional info to your treats.\n\nThank you\, if you can help contact Jodi Williams 706-897-2466
X-ALT-DESC;FMTTYPE=text/html:House of PrayerTrunk or Treat<br />\nWednesday\, October 29th<br />\n5:30pm - 8:00pm<br />\nWe are providing a safe environment for the children of the community to trick or treat and have a fun filled night.<br />\nHot Dogs &amp\; Popcorn<br />\nVariety of games and Hayrides are some of the other activities that will be taking place.<br />\n<br />\nWe need Trunks! All you have to do is Come\, Decorate your trunk and pass your treats. This is a great way to promote your business. Last year we had approximately 500 children\, most accompanied by their parents. You are welcome to attach a business card or other promotional info to your treats.<br />\nThank you\, if you can help contact Jodi Williams 706-897-2466<br />\n&nbsp\;
LOCATION:House of Prayer Church Family Life Center 1400 Pat Colwell Rd Blairsville
UID:e.256.27340
SEQUENCE:3
DTSTAMP:20260424T061247Z
URL:https://members.visitblairsvillega.com/events/details/trunk-or-treat-10-29-2014-27340
END:VEVENT

END:VCALENDAR
