BEGIN:VCALENDAR
VERSION:2.0
PRODID:-//ChamberMaster//Event Calendar 2.0//EN
METHOD:PUBLISH
X-PUBLISHED-TTL:P3D
REFRESH-INTERVAL:P3D
CALSCALE:GREGORIAN
BEGIN:VEVENT
DTSTART:20161026T213000Z
DTEND:20161027T000000Z
X-MICROSOFT-CDO-ALLDAYEVENT:FALSE
SUMMARY:Trunk or Treat-House of Prayer Church
DESCRIPTION:TRUNK or TREAT is a FREE and SAFE Halloween alternative for our surrounding community.  It takes place at the House of Prayer Family Life Center\, located behind the Church.  You will find friendly smiles\, decorated trunks\, games\, Free Hot dogs and Candy to children in costume.
X-ALT-DESC;FMTTYPE=text/html:TRUNK or TREAT is a FREE and SAFE Halloween alternative for our surrounding community. &nbsp\;It takes place at the House of Prayer Family Life Center\, located behind the Church. &nbsp\;You will find friendly smiles\, decorated trunks\, games\, Free Hot dogs and Candy to children in costume.
LOCATION:House of Prayer Family Life Center 1400 Pat Colwell Road\, Blairsville GA
UID:e.256.59314
SEQUENCE:3
DTSTAMP:20260420T131740Z
URL:https://members.visitblairsvillega.com/events/details/trunk-or-treat-house-of-prayer-church-59314
END:VEVENT

END:VCALENDAR
