BEGIN:VCALENDAR
VERSION:2.0
PRODID:-//ChamberMaster//Event Calendar 2.0//EN
METHOD:PUBLISH
X-PUBLISHED-TTL:P3D
REFRESH-INTERVAL:P3D
CALSCALE:GREGORIAN
BEGIN:VEVENT
DTSTART:20151114T150000Z
DTEND:20151114T170000Z
X-MICROSOFT-CDO-ALLDAYEVENT:FALSE
SUMMARY:TURKEY SHOOT
DESCRIPTION:TURKEY SHOOT\n\nBrought to you by \n\nFriends of\n\nEric Wood for Union County Sheriff\n\nCampaign\n\nwww.ericwoodforsheriff.com\n\n*$3-$5 per shot/depending on shoot-off prize\n\n*Participants will be shooting for a grand prize!\n\n*Bring your own gun\n\nEvent will be located 7 miles South of Blairsville on Hwy 129.  Look for signs on the left.
X-ALT-DESC;FMTTYPE=text/html:<p style="text-align: center\;"><span style="font-size:14px\;"><strong><span style="font-family: georgia\;"><span style="color: rgb(192\, 115\, 0)\;">TURKEY SHOOT</span></span></strong><br />\n<span style="font-family: lucida sans\;"><span style="color: rgb(128\, 77\, 0)\;">Brought to you by </span></span></span></p>\n\n<p style="text-align: center\;"><span style="font-size:14px\;"><strong><em><span style="font-family: lucida sans\;">Friends of<br />\nEric Wood for Union County Sheriff</span></em></strong><br />\n<span style="font-family: lucida sans\;"><span style="color: rgb(128\, 77\, 0)\;">Campaign</span></span></span></p>\n\n<p style="text-align: center\;"><span style="font-size:14px\;"><span style="font-family: lucida sans\;"><span style="color: rgb(128\, 77\, 0)\;">www.ericwoodforsheriff.com</span></span></span></p>\n\n<p><span style="font-size:14px\;"><strong><span style="font-family: lucida sans typewriter\;"><span style="color: rgb(128\, 77\, 0)\;">*</span></span></strong><strong><span style="font-family: lucida sans typewriter\;"><span style="color: rgb(128\, 77\, 0)\;">$3-$5 per shot/depending on shoot-off prize</span></span></strong></span></p>\n\n<p><span style="font-size:14px\;"><strong><span style="font-family: arial\;"><span style="color: rgb(128\, 77\, 0)\;">*Participants will be shooting for a grand prize!</span></span></strong><br />\n<strong><span style="font-family: arial\;"><span style="color: rgb(128\, 77\, 0)\;">*Bring your own gun</span></span></strong></span></p>\n\n<p><span style="font-size:14px\;"><em><span style="font-family: arial\;"><span style="color: rgb(12\, 12\, 12)\;">Event will be located 7 miles South of Blairsville on Hwy 129.&nbsp\; Look for signs on the left.</span></span></em>&nbsp\;</span></p>\n\n<p style="text-align: center\;">&nbsp\;</p>\n
LOCATION:Event will be located 7 miles South of Blairsville on Hwy 129. Look for signs on the left.
UID:e.256.44544
SEQUENCE:3
DTSTAMP:20260423T084823Z
URL:https://members.visitblairsvillega.com/events/details/turkey-shoot-11-14-2015-44544
END:VEVENT

END:VCALENDAR
