BEGIN:VCALENDAR
VERSION:2.0
PRODID:-//ChamberMaster//Event Calendar 2.0//EN
METHOD:PUBLISH
X-PUBLISHED-TTL:P3D
REFRESH-INTERVAL:P3D
CALSCALE:GREGORIAN
BEGIN:VEVENT
DTSTART:20140913T230000Z
DTEND:20140914T000000Z
X-MICROSOFT-CDO-ALLDAYEVENT:FALSE
SUMMARY:Twilight Concert at The Farm
DESCRIPTION:Byron Herbert Reece Farm and Heritage Center\n\npresenting - Twilight Concert at The Farm\n\nSaturday Evening\, September 13th\, 7pm - 8pm\n\nIn the Reece Pavilion\n\nFree Outdoor Concert\n\nIn honor of Byron Herbert Reece's 97th birthday\, come hear the Appalachian String Quartet\, an ensemble from the North Georgia Chamber Symphony. The concert will include some of Reece's classical favorites as well as other numbers.\n\nThe Reese Farm & Heritage Center is located on U.S. 129S\, 9 miles south of Blairsville\, GA less than a mile from Vogel State Park.\n\nFor those who would also like to tour the farm and heritage center's exhibits\, admission is only $3.00 for those 12 and over. Come early\, since the exhibit areas will close at 6:30pm in preparation for the concert.\n\nFor more information call the center at 706-745-2034.
X-ALT-DESC;FMTTYPE=text/html:<strong>Byron Herbert Reece Farm and Heritage Center<br />\npresenting - Twilight Concert at The Farm</strong><br />\nSaturday Evening\, September 13th\, 7pm - 8pm<br />\nIn the Reece Pavilion<br />\nFree Outdoor Concert<br />\nIn honor of Byron Herbert Reece&#39\;s 97th birthday\, come hear the Appalachian String Quartet\, an ensemble from the North Georgia Chamber Symphony. The concert will include some of Reece&#39\;s classical favorites as well as other numbers.<br />\nThe Reese Farm &amp\; Heritage Center is located on U.S. 129S\, 9 miles south of Blairsville\, GA less than a mile from Vogel State Park.<br />\nFor those who would also like to tour the farm and heritage center&#39\;s exhibits\, admission is only $3.00 for those 12 and over. Come early\, since the exhibit areas will close at 6:30pm in preparation for the concert.<br />\nFor more information call the center at 706-745-2034.
LOCATION:The Byron Herbert Reece Farm and Heritage Center U. S. Hwy. 19/129S\, 9 miles south of Blairsville Blairsville\, GA
UID:e.256.27335
SEQUENCE:3
DTSTAMP:20260424T073932Z
URL:https://members.visitblairsvillega.com/events/details/twilight-concert-at-the-farm-09-13-2014-27335
END:VEVENT

END:VCALENDAR
