BEGIN:VCALENDAR
VERSION:2.0
PRODID:-//ChamberMaster//Event Calendar 2.0//EN
METHOD:PUBLISH
X-PUBLISHED-TTL:P3D
REFRESH-INTERVAL:P3D
CALSCALE:GREGORIAN
BEGIN:VEVENT
DTSTART:20150212T150000Z
DTEND:20150212T190000Z
X-MICROSOFT-CDO-ALLDAYEVENT:FALSE
SUMMARY:TWIN CREEKS BED AND BREAKFAST OPEN HOUSE
DESCRIPTION:TWIN CREEKS B&B is hosting a:\n\n"Get to know our Local Realtors" Open House\n\nWe will be giving tours of our B & B\, serving our "Famous" Carrot Cake and coffee.\n\nWe would like to get to know each of the Real Estate Agencies in the area.\n\nTwin Creeks B & B is open for Your Weekly tours\, Hosting your out of town guests when they come to look for property or their new home in our Beautiful City.\n\nPlease contact us ASAP so we know how many to prepare for.
X-ALT-DESC;FMTTYPE=text/html:<strong>TWIN CREEKS B&amp\;B </strong>is hosting a:<br />\n<em>&quot\;Get to know our Local Realtors&quot\; Open House</em><br />\nWe will be giving tours of our B &amp\; B\, serving our &quot\;Famous&quot\; Carrot Cake and coffee.<br />\nWe would like to get to know each of the Real Estate Agencies in the area.<br />\nTwin Creeks B &amp\; B is open for Your Weekly tours\, Hosting your out of town guests when they come to look for property or their new home in our Beautiful City.<br />\nPlease contact us ASAP so we know how many to prepare for.&nbsp\;
LOCATION:834 Collins Road\, Blairsvillle\, GA 30512
UID:e.256.37067
SEQUENCE:3
DTSTAMP:20260424T003324Z
URL:https://members.visitblairsvillega.com/events/details/twin-creeks-bed-and-breakfast-open-house-02-12-2015-37067
END:VEVENT

END:VCALENDAR
