BEGIN:VCALENDAR
VERSION:2.0
PRODID:-//ChamberMaster//Event Calendar 2.0//EN
METHOD:PUBLISH
X-PUBLISHED-TTL:P3D
REFRESH-INTERVAL:P3D
CALSCALE:GREGORIAN
BEGIN:VEVENT
DTSTART:20150516T130000Z
DTEND:20150516T180000Z
X-MICROSOFT-CDO-ALLDAYEVENT:FALSE
SUMMARY:U-Fish
DESCRIPTION:Bring the family down for a free event open to the public! Hosted By Trout Unlimited. Poles\, and bait provided along with instruction on catch and release.
X-ALT-DESC;FMTTYPE=text/html:Bring the family down for a free event open to the public! Hosted By Trout Unlimited. Poles\, and bait provided along with instruction on catch and release.
LOCATION:Mercier Orchards
UID:e.256.38098
SEQUENCE:3
DTSTAMP:20260423T194212Z
URL:https://members.visitblairsvillega.com/events/details/u-fish-05-16-2015-38098
END:VEVENT

END:VCALENDAR
