BEGIN:VCALENDAR
VERSION:2.0
PRODID:-//ChamberMaster//Event Calendar 2.0//EN
METHOD:PUBLISH
X-PUBLISHED-TTL:P3D
REFRESH-INTERVAL:P3D
CALSCALE:GREGORIAN
BEGIN:VEVENT
DTSTART:20160412T223000Z
DTEND:20160413T003000Z
X-MICROSOFT-CDO-ALLDAYEVENT:FALSE
SUMMARY:UC GOP Meeting
DESCRIPTION:Candidate Forum sponsored by UCGOP and the Union/Towns County Tea Party
X-ALT-DESC;FMTTYPE=text/html:<span style="font-size: medium\;"><span style="font-family: calibri\;">Candidate Forum sponsored by UCGOP and the Union/Towns County Tea Party</span></span><br />\n<br />\n&nbsp\;
LOCATION:Pat Haralson Memorial Civic Center
UID:e.256.50638
SEQUENCE:3
DTSTAMP:20260421T002245Z
URL:https://members.visitblairsvillega.com/events/details/uc-gop-meeting-04-12-2016-50638
END:VEVENT

END:VCALENDAR
