BEGIN:VCALENDAR
VERSION:2.0
PRODID:-//ChamberMaster//Event Calendar 2.0//EN
METHOD:PUBLISH
X-PUBLISHED-TTL:P3D
REFRESH-INTERVAL:P3D
CALSCALE:GREGORIAN
BEGIN:VEVENT
DTSTART:20151125T150000Z
DTEND:20151125T170000Z
X-MICROSOFT-CDO-ALLDAYEVENT:FALSE
SUMMARY:UCBI's Spiced Cider
DESCRIPTION:Join us for complimentary spiced cider and pumpkin bread served at United Community Bank.
X-ALT-DESC;FMTTYPE=text/html:Join us for complimentary spiced cider and pumpkin bread served at United Community Bank.
LOCATION:UCBI 177 Highway 515
UID:e.256.37100
SEQUENCE:3
DTSTAMP:20260423T085003Z
URL:https://members.visitblairsvillega.com/events/details/ucbi-s-spiced-cider-11-25-2015-37100
END:VEVENT

END:VCALENDAR
