BEGIN:VCALENDAR
VERSION:2.0
PRODID:-//ChamberMaster//Event Calendar 2.0//EN
METHOD:PUBLISH
X-PUBLISHED-TTL:P3D
REFRESH-INTERVAL:P3D
CALSCALE:GREGORIAN
BEGIN:VEVENT
DTSTART:20150509T150000Z
DTEND:20150509T180000Z
X-MICROSOFT-CDO-ALLDAYEVENT:FALSE
SUMMARY:UCHS Band BBQ Dinner & Live Music
DESCRIPTION:The Union County High School Band will be hosting a BBQ Dinner to raise money for our upcoming trip to New York. BBQ will be provided by Full Throttle Ministries. The UCHS Jazz Band will be performing. Come enjoy some good BBQ and great music!
X-ALT-DESC;FMTTYPE=text/html:The Union County High School Band will be hosting a BBQ Dinner to raise money for our upcoming trip to New York. BBQ will be provided by Full Throttle Ministries. The UCHS Jazz Band will be performing. Come enjoy some good BBQ and great music!
LOCATION:Pat Haralson Civic Center
UID:e.256.39994
SEQUENCE:3
DTSTAMP:20260423T195442Z
URL:https://members.visitblairsvillega.com/events/details/uchs-band-bbq-dinner-live-music-05-09-2015-39994
END:VEVENT

END:VCALENDAR
