BEGIN:VCALENDAR
VERSION:2.0
PRODID:-//ChamberMaster//Event Calendar 2.0//EN
METHOD:PUBLISH
X-PUBLISHED-TTL:P3D
REFRESH-INTERVAL:P3D
CALSCALE:GREGORIAN
BEGIN:VEVENT
DTSTART:20151015T223000Z
DTEND:20151016T003000Z
X-MICROSOFT-CDO-ALLDAYEVENT:FALSE
SUMMARY:UCHS Band is having a concert
DESCRIPTION:It will be a variety concert\, and it should be very entertaining!
X-ALT-DESC;FMTTYPE=text/html:<span style="font-family: &quot\;Times New Roman&quot\;\,&quot\;serif&quot\;\; font-size: 12pt\; mso-fareast-font-family: Calibri\; mso-fareast-theme-font: minor-latin\; mso-ansi-language: EN-US\; mso-fareast-language: EN-US\; mso-bidi-language: AR-SA\;"><font color="#000000">It will be a variety concert\, and it should be very entertaining! </font></span>
LOCATION:In the new Fine Arts Center above the Union County High School.
UID:e.256.44309
SEQUENCE:3
DTSTAMP:20260423T115705Z
URL:https://members.visitblairsvillega.com/events/details/uchs-band-is-having-a-concert-10-15-2015-44309
END:VEVENT

END:VCALENDAR
