BEGIN:VCALENDAR
VERSION:2.0
PRODID:-//ChamberMaster//Event Calendar 2.0//EN
METHOD:PUBLISH
X-PUBLISHED-TTL:P3D
REFRESH-INTERVAL:P3D
CALSCALE:GREGORIAN
BEGIN:VEVENT
DTSTART;VALUE=DATE:20140201
DTEND;VALUE=DATE:20140202
TRANSP:TRANSPARENT
X-MICROSOFT-CDO-ALLDAYEVENT:TRUE
SUMMARY:UCHS BBQ Fundraiser
DESCRIPTION:The UCHS Access Explorers\, will be hosting a BBQ Fundraiser. The Access Explorers are raising money for a school-based field trip to Chicago\, Illinois. Roy Phillips (who has cooked BBQ for Revival Baptist Church for 30 years) will be cooking for the fundraiser. Delivery is available. Thank you for your support!!
X-ALT-DESC;FMTTYPE=text/html:The UCHS Access Explorers\, will be hosting a BBQ Fundraiser. The Access Explorers are raising money for a school-based field trip to Chicago\, Illinois. Roy Phillips (who has cooked BBQ for Revival Baptist Church for 30 years) will be cooking for the fundraiser. Delivery is available. Thank you for your support!!
LOCATION:Corner of 129 North and Arbor Acres Rd.
UID:e.256.22468
SEQUENCE:3
DTSTAMP:20260424T165005Z
URL:https://members.visitblairsvillega.com/events/details/uchs-bbq-fundraiser-02-01-2014-22468
END:VEVENT

END:VCALENDAR
