BEGIN:VCALENDAR
VERSION:2.0
PRODID:-//ChamberMaster//Event Calendar 2.0//EN
METHOD:PUBLISH
X-PUBLISHED-TTL:P3D
REFRESH-INTERVAL:P3D
CALSCALE:GREGORIAN
BEGIN:VEVENT
DTSTART:20161006T223000Z
DTEND:20161007T000000Z
X-MICROSOFT-CDO-ALLDAYEVENT:FALSE
SUMMARY:UCHS Chorus Fall Concert: Evolution of Music
DESCRIPTION:The theatre will be open 30 minutes prior to performance time. The lobby opens at 5:45-ish. Ticket admissions go back into the program. Tickets will be at the door.
X-ALT-DESC;FMTTYPE=text/html:The theatre will be open 30 minutes prior to performance time. The lobby opens at 5:45-ish. Ticket admissions go back into the program. Tickets will be at the door.
LOCATION:Union County Schools Fine Arts Center 926 Panther Overlook Blairsville\, GA 30512
UID:e.256.54505
SEQUENCE:3
DTSTAMP:20260420T145123Z
URL:https://members.visitblairsvillega.com/events/details/uchs-chorus-fall-concert-evolution-of-music-10-06-2016-54505
END:VEVENT

END:VCALENDAR
