BEGIN:VCALENDAR
VERSION:2.0
PRODID:-//ChamberMaster//Event Calendar 2.0//EN
METHOD:PUBLISH
X-PUBLISHED-TTL:P3D
REFRESH-INTERVAL:P3D
CALSCALE:GREGORIAN
BEGIN:VEVENT
DTSTART:20150918T233000Z
DTEND:20150919T021500Z
X-MICROSOFT-CDO-ALLDAYEVENT:FALSE
SUMMARY:UCHS Football
DESCRIPTION:Away game with Fannin County
X-ALT-DESC;FMTTYPE=text/html:Away game with Fannin County
LOCATION:Blue Ridge\, Georgia
UID:e.256.43957
SEQUENCE:3
DTSTAMP:20260423T121654Z
URL:https://members.visitblairsvillega.com/events/details/uchs-football-09-18-2015-43957
END:VEVENT

END:VCALENDAR
