BEGIN:VCALENDAR
VERSION:2.0
PRODID:-//ChamberMaster//Event Calendar 2.0//EN
METHOD:PUBLISH
X-PUBLISHED-TTL:P3D
REFRESH-INTERVAL:P3D
CALSCALE:GREGORIAN
BEGIN:VEVENT
DTSTART:20150327T191500Z
DTEND:20150328T000000Z
X-MICROSOFT-CDO-ALLDAYEVENT:FALSE
SUMMARY:UCHS Spanish Club's Foreign Language Festival
DESCRIPTION:On March 27th\, 2015\, the UCHS Spanish Club will present our first Foreign Language Festival. The Spanish Language and Culture will be showcased through a variety of activities including song\, dance\, arts and crafts\, and food. It is our hope to inspire a greater appreciation of Culture and Diversity within our community by providing fun instructional and educational opportunities to the Primary and Elementary students of Union County Schools. Currently\, the Spanish Club has 34 members. These students are wonderful young men and women who are eager to interact and teach younger children\, while building excitement for their future. As a club\, we envision a yearly opportunity for this type of learning experience across multiple schools and grade levels. We hope that you will consider allowing your child to participate in this year?s festival. We have arranged transportation for students who are participating in the first session. Mr. Garrett will transport them from the Primary and Elementary Schools to the High School on the UCS Round-Trip Bus. The bus will begin picking these students up at 3:10. Parents and guardians are responsible for picking up their children at the UCHS Gymnasium at the end of the registered session.
X-ALT-DESC;FMTTYPE=text/html:On March 27th\, 2015\, the UCHS Spanish Club will present our first Foreign Language Festival. The Spanish Language and Culture will be showcased through a variety of activities including song\, dance\, arts and crafts\, and food. It is our hope to inspire a greater appreciation of Culture and Diversity within our community by providing fun instructional and educational opportunities to the Primary and Elementary students of Union County Schools. Currently\, the Spanish Club has 34 members. These students are wonderful young men and women who are eager to interact and teach younger children\, while building excitement for their future. As a club\, we envision a yearly opportunity for this type of learning experience across multiple schools and grade levels. We hope that you will consider allowing your child to participate in this year?s festival. We have arranged transportation for students who are participating in the first session. Mr. Garrett will transport them from the Primary and Elementary Schools to the High School on the UCS Round-Trip Bus. The bus will begin picking these students up at 3:10. Parents and guardians are responsible for picking up their children at the UCHS Gymnasium at the end of the registered session.
LOCATION:UCHS Gymnasium
UID:e.256.37713
SEQUENCE:3
DTSTAMP:20260423T212243Z
URL:https://members.visitblairsvillega.com/events/details/uchs-spanish-club-s-foreign-language-festival-03-27-2015-37713
END:VEVENT

END:VCALENDAR
