BEGIN:VCALENDAR
VERSION:2.0
PRODID:-//ChamberMaster//Event Calendar 2.0//EN
METHOD:PUBLISH
X-PUBLISHED-TTL:P3D
REFRESH-INTERVAL:P3D
CALSCALE:GREGORIAN
BEGIN:VEVENT
DTSTART:20150330T210000Z
DTEND:20150331T000000Z
X-MICROSOFT-CDO-ALLDAYEVENT:FALSE
SUMMARY:UCHS Spanish Club Zaxby's Fundraiser with Queen Elsa
DESCRIPTION:The UCHS Spanish Club is having a Zaxby's Fundraiser from 5-8 p.m. on Monday\, March 30th\, 2015. The club will get 10% of all purchases made during that timeframe. Queen Elsa herself will be there during that time to meet everyone. Please bring your own camera to capture the memories! We are also planning other activities such as face painting and a 50-50 raffle. Plus\, there will be a drawing for $50 off a birthday party with Elsa! Please bring your families out for a fun evening and support our club!
X-ALT-DESC;FMTTYPE=text/html:The UCHS Spanish Club is having a Zaxby&#39\;s Fundraiser from 5-8 p.m. on Monday\, March 30th\, 2015. The club will get 10% of all purchases made during that timeframe. Queen Elsa herself will be there during that time to meet everyone. Please bring your own camera to capture the memories! We are also planning other activities such as face painting and a 50-50 raffle. Plus\, there will be a drawing for $50 off a birthday party with Elsa! Please bring your families out for a fun evening and support our club!
LOCATION:Zaxby's Blairsville
UID:e.256.37714
SEQUENCE:3
DTSTAMP:20260423T212456Z
URL:https://members.visitblairsvillega.com/events/details/uchs-spanish-club-zaxby-s-fundraiser-with-queen-elsa-03-30-2015-37714
END:VEVENT

END:VCALENDAR
