BEGIN:VCALENDAR
VERSION:2.0
PRODID:-//ChamberMaster//Event Calendar 2.0//EN
METHOD:PUBLISH
X-PUBLISHED-TTL:P3D
REFRESH-INTERVAL:P3D
CALSCALE:GREGORIAN
BEGIN:VEVENT
DTSTART:20160519T200000Z
DTEND:20160519T223000Z
X-MICROSOFT-CDO-ALLDAYEVENT:FALSE
SUMMARY:UCHS STEM Academy Student Showcase/Open House
DESCRIPTION:The community is cordially invited to the STEM(Science/Technology/Engineering/Math)  Academy Student Showcase Open House. Students and faculty will be sharing student projects and progress of the STEM Academy's inaugural year.
X-ALT-DESC;FMTTYPE=text/html:The community is cordially invited to the STEM(Science/Technology/Engineering/Math) &nbsp\;Academy Student Showcase&nbsp\;Open House. Students and faculty will be sharing student projects and progress of the STEM&nbsp\;Academy&#39\;s inaugural year.
LOCATION:Union County High School in the UCHS STEM Laboratory (Room 411 near the cafeteria)
UID:e.256.51230
SEQUENCE:3
DTSTAMP:20260420T222442Z
URL:https://members.visitblairsvillega.com/events/details/uchs-stem-academy-student-showcase-open-house-05-19-2016-51230
END:VEVENT

END:VCALENDAR
