BEGIN:VCALENDAR
VERSION:2.0
PRODID:-//ChamberMaster//Event Calendar 2.0//EN
METHOD:PUBLISH
X-PUBLISHED-TTL:P3D
REFRESH-INTERVAL:P3D
CALSCALE:GREGORIAN
BEGIN:VEVENT
DTSTART:20161206T233000Z
DTEND:20161207T003000Z
X-MICROSOFT-CDO-ALLDAYEVENT:FALSE
SUMMARY:UCMS Band: Christmas Concert
DESCRIPTION:The theatre will be open 30 minutes prior to performance time. The lobby opens at 5:45-ish. Ticket admissions go back into the program. Tickets will be at the door.
X-ALT-DESC;FMTTYPE=text/html:The theatre will be open 30 minutes prior to performance time. The lobby opens at 5:45-ish. Ticket admissions go back into the program. Tickets will be at the door.
LOCATION:Union County Schools Fine Arts Center 926 Panther Overlook Blairsville\, GA 30512
UID:e.256.54511
SEQUENCE:3
DTSTAMP:20260420T094145Z
URL:https://members.visitblairsvillega.com/events/details/ucms-band-christmas-concert-12-06-2016-54511
END:VEVENT

END:VCALENDAR
