BEGIN:VCALENDAR
VERSION:2.0
PRODID:-//ChamberMaster//Event Calendar 2.0//EN
METHOD:PUBLISH
X-PUBLISHED-TTL:P3D
REFRESH-INTERVAL:P3D
CALSCALE:GREGORIAN
BEGIN:VEVENT
DTSTART:20140508T210000Z
DTEND:20140508T230000Z
X-MICROSOFT-CDO-ALLDAYEVENT:FALSE
SUMMARY:UCMS Community Fair
DESCRIPTION:Community Members:\n\nUCMS would like to offer parents\, grandparents\, and caregivers an opportunity to be aware of all the resources (camps\, nutrition programs\, farms\, sports activities\, etc.) available in our county throughout the school year and summer. If you would like to participate in this fair\, please contact Anna Roxbury at Union County Middle School.Limited display tables will be available. If you can provide a table\, please bring one the night of the event. If you cannot attend but would like to make your brochure available\, please drop off at the Middle School office prior to May 8.
X-ALT-DESC;FMTTYPE=text/html:Community Members:<br />\nUCMS would like to offer parents\, grandparents\, and caregivers an opportunity to be aware of all the resources (camps\, nutrition programs\, farms\, sports activities\, etc.) available in our county throughout the school year and summer. If you would like to participate in this fair\, please contact Anna Roxbury at Union County Middle School.Limited display tables will be available. If you can provide a table\, please bring one the night of the event. If you cannot attend but would like to make your brochure available\, please drop off at the Middle School office prior to May 8.
LOCATION:Union County Middle School Gym
UID:e.256.24245
SEQUENCE:3
DTSTAMP:20260424T133317Z
URL:https://members.visitblairsvillega.com/events/details/ucms-community-fair-05-08-2014-24245
END:VEVENT

END:VCALENDAR
