BEGIN:VCALENDAR
VERSION:2.0
PRODID:-//ChamberMaster//Event Calendar 2.0//EN
METHOD:PUBLISH
X-PUBLISHED-TTL:P3D
REFRESH-INTERVAL:P3D
CALSCALE:GREGORIAN
BEGIN:VEVENT
DTSTART:20161202T233000Z
DTEND:20161203T004500Z
X-MICROSOFT-CDO-ALLDAYEVENT:FALSE
SUMMARY:UCMS Theatre
DESCRIPTION:The theatre will be open 30 minutes prior to performance time. The lobby opens at 5:45-ish. Ticket admissions go back into the program. Tickets will be at the door.
X-ALT-DESC;FMTTYPE=text/html:The theatre will be open 30 minutes prior to performance time. The lobby opens at 5:45-ish. Ticket admissions go back into the program. Tickets will be at the door.
LOCATION:Union County Schools Fine Arts Center 926 Panther Overlook Blairsville\, GA 30512
UID:e.256.54525
SEQUENCE:3
DTSTAMP:20260420T093445Z
URL:https://members.visitblairsvillega.com/events/details/ucms-theatre-12-02-2016-54525
END:VEVENT

END:VCALENDAR
