BEGIN:VCALENDAR
VERSION:2.0
PRODID:-//ChamberMaster//Event Calendar 2.0//EN
METHOD:PUBLISH
X-PUBLISHED-TTL:P3D
REFRESH-INTERVAL:P3D
CALSCALE:GREGORIAN
BEGIN:VEVENT
DTSTART:20140517T140000Z
DTEND:20140517T150000Z
X-MICROSOFT-CDO-ALLDAYEVENT:FALSE
SUMMARY:UCRP Meeting
DESCRIPTION:We will hold our next regular monthly meeting at the Pat Haralson Memorial Civic Center\, 165 Welborn St.\, Blairsville\, at 10:00 AM\, on Saturday\, May 17\, 2014. We have invited the local Republican candidates to speak and answer questions at the meeting. There will also be updates from several elected Republican officials and others. As always\, this monthly meeting is open to everyone seeking to gather more information and make well-informed choices at the ballot box. So\, invite all of your friends and neighbors to come with you to the meeting.\n\n \n\nIf you need further information\, please call me at 706-745-5125 or email me at Chairman@UnionGOP.org.
X-ALT-DESC;FMTTYPE=text/html:<span style="font-family:arial\,sans-serif\;">We will hold&nbsp\;our next&nbsp\;regular monthly meeting at the Pat Haralson Memorial Civic Center\, 165 Welborn St.\, Blairsville\, at 10:00 AM\, on Saturday\,&nbsp\;May 17\, 2014. We have invited the local Republican candidates&nbsp\;to speak and answer questions at the meeting. There will also be updates from&nbsp\;several elected&nbsp\;Republican officials and others.&nbsp\;As always\, this monthly meeting is open to everyone seeking to gather more information and make well-informed choices at the ballot box. So\, invite all of your friends and neighbors to come with you to the meeting.</span><br />\n&nbsp\;<br />\n<span style="font-family:arial\,sans-serif\;">If you need further information\, please call me&nbsp\;at 706-745-5125 or email me at&nbsp\;</span><a href="mailto:Chairman@UnionGOP.org"><span style="font-family:arial\,sans-serif\;">Chairman@UnionGOP.org</span></a><span style="font-family:arial\,sans-serif\;">.</span><br />\n&nbsp\;<br />\n&nbsp\;
LOCATION:Pat Haralson Civic Center
UID:e.256.24359
SEQUENCE:3
DTSTAMP:20260424T122206Z
URL:https://members.visitblairsvillega.com/events/details/ucrp-meeting-05-17-2014-24359
END:VEVENT

END:VCALENDAR
