BEGIN:VCALENDAR
VERSION:2.0
PRODID:-//ChamberMaster//Event Calendar 2.0//EN
METHOD:PUBLISH
X-PUBLISHED-TTL:P3D
REFRESH-INTERVAL:P3D
CALSCALE:GREGORIAN
BEGIN:VEVENT
DTSTART:20160630T200000Z
DTEND:20160630T220000Z
X-MICROSOFT-CDO-ALLDAYEVENT:FALSE
SUMMARY:UGH Open House
DESCRIPTION:Come check out the newly opened Union General Wound Care & Hyperbaric Center. Open to the public and refreshments will be served!
X-ALT-DESC;FMTTYPE=text/html:Come check out the newly opened Union General Wound Care &amp\; Hyperbaric Center. Open to the public and refreshments will be served!
LOCATION:Union General Hospital 35 Hospital Rd Blairsville
UID:e.256.52978
SEQUENCE:3
DTSTAMP:20260420T222316Z
URL:https://members.visitblairsvillega.com/events/details/ugh-open-house-06-30-2016-52978
END:VEVENT

END:VCALENDAR
