BEGIN:VCALENDAR
VERSION:2.0
PRODID:-//ChamberMaster//Event Calendar 2.0//EN
METHOD:PUBLISH
X-PUBLISHED-TTL:P3D
REFRESH-INTERVAL:P3D
CALSCALE:GREGORIAN
BEGIN:VEVENT
DTSTART:20151208T220000Z
DTEND:20151209T010000Z
X-MICROSOFT-CDO-ALLDAYEVENT:FALSE
SUMMARY:Union County Anti Drug Coalition Fundraiser
DESCRIPTION:Come to Zaxby's and help raise money for Union County Anti Drug Coalition just by eating delicious Zaxby's chicken.  10% of total sales will go toward this worthy cause.
X-ALT-DESC;FMTTYPE=text/html:Come to Zaxby&#39\;s and help raise money for Union County Anti Drug Coalition just by eating delicious Zaxby&#39\;s chicken.&nbsp\; 10% of total sales will go toward this worthy cause.
LOCATION:Zaxby's At This Location Only: 295 Hwy 515\, Blairsville\, Georgia
UID:e.256.45163
SEQUENCE:3
DTSTAMP:20260421T074509Z
URL:https://members.visitblairsvillega.com/events/details/union-county-anti-drug-coalition-fundraiser-12-08-2015-45163
END:VEVENT

END:VCALENDAR
