BEGIN:VCALENDAR
VERSION:2.0
PRODID:-//ChamberMaster//Event Calendar 2.0//EN
METHOD:PUBLISH
X-PUBLISHED-TTL:P3D
REFRESH-INTERVAL:P3D
CALSCALE:GREGORIAN
BEGIN:VEVENT
DTSTART:20140712T110000Z
DTEND:20140712T170000Z
X-MICROSOFT-CDO-ALLDAYEVENT:FALSE
SUMMARY:Union County Farmer's Market
DESCRIPTION:Union County Farmer's Market\n\nOpen every Saturday at 7am - 1pm\n\nHoney Bee Jubilee\n\nLogan Turnpike Mill will be "flippin' silver dollar pancakes" made out of the mill's own award winning pancake mix. Pancakes are free\, while they last. They'll be served with the goodness of local honey donated by our own vendor family\, Michael Surles\, Don Berry and Harold Berry.
X-ALT-DESC;FMTTYPE=text/html:Union County Farmer&#39\;s Market<br />\nOpen every Saturday at 7am - 1pm<br />\n<em><strong>Honey Bee Jubilee</strong></em><br />\nLogan Turnpike Mill will be &ldquo\;flippin&rsquo\; silver dollar pancakes&rdquo\; made out of the mill&rsquo\;s own award winning pancake mix. Pancakes are free\, while they last. They&rsquo\;ll be served with the goodness of local honey donated by our own vendor family\, Michael Surles\, Don Berry and Harold Berry.
LOCATION:Union County Farmer's Market 148 Old Smokey Rd (off Weaver Rd) Blairsville\, GA
UID:e.256.24189
SEQUENCE:3
DTSTAMP:20260424T104256Z
URL:https://members.visitblairsvillega.com/events/details/union-county-farmer-s-market-07-12-2014-24189
END:VEVENT

END:VCALENDAR
