BEGIN:VCALENDAR
VERSION:2.0
PRODID:-//ChamberMaster//Event Calendar 2.0//EN
METHOD:PUBLISH
X-PUBLISHED-TTL:P3D
REFRESH-INTERVAL:P3D
CALSCALE:GREGORIAN
BEGIN:VEVENT
DTSTART:20140920T110000Z
DTEND:20140920T170000Z
X-MICROSOFT-CDO-ALLDAYEVENT:FALSE
SUMMARY:Union County Farmer's Market
DESCRIPTION:Apple Dumplin' Festival \n\nUnion County Farmer's Market\n\nOpen every Saturday at 7am - 1pm\n\nUnion County takes pride in our agricultural roots. In 2007\, County Commissioner Lamar Paris organized a committee to oversee the development of a local market that would give our growers\, big and small\, a place to sell their goods. It was decided that artisans\, beekeepers to bakers and potters to painters\, could also sell their handmade goods. So when we boast "Homegrown and Handmade"\, you know that you are purchasing products that have been produced right here in this area!
X-ALT-DESC;FMTTYPE=text/html:<strong>Apple Dumplin&#39\; Festival </strong><br />\nUnion County Farmer&#39\;s Market<br />\nOpen every Saturday at 7am - 1pm<br />\nUnion County takes pride in our agricultural roots. In 2007\, County Commissioner Lamar Paris organized a committee to oversee the development of a local market that would give our growers\, big and small\, a place to sell their goods. It was decided that artisans\, beekeepers to bakers and potters to painters\, could also sell their handmade goods. So when we boast &ldquo\;Homegrown and Handmade&rdquo\;\, you know that you are purchasing products that have been produced right here in this area!
LOCATION:Union County Farmer's Market 148 Old Smokey Rd (off Weaver Rd) Blairsville\, GA
UID:e.256.24199
SEQUENCE:3
DTSTAMP:20260424T062942Z
URL:https://members.visitblairsvillega.com/events/details/union-county-farmer-s-market-09-20-2014-24199
END:VEVENT

END:VCALENDAR
