BEGIN:VCALENDAR
VERSION:2.0
PRODID:-//ChamberMaster//Event Calendar 2.0//EN
METHOD:PUBLISH
X-PUBLISHED-TTL:P3D
REFRESH-INTERVAL:P3D
CALSCALE:GREGORIAN
BEGIN:VEVENT
DTSTART:20170603T110000Z
DTEND:20170603T170000Z
X-MICROSOFT-CDO-ALLDAYEVENT:FALSE
SUMMARY:Union County Farmers Market
DESCRIPTION:Be sure to be at the Farmers Market Grand Opening - Heritage Day.  It all starts today!!!! Come out and experience our awesome market.  Rain or Shine
X-ALT-DESC;FMTTYPE=text/html:Be sure to be at the Farmers Market Grand Opening - Heritage Day.&nbsp\; It all starts today!!!! Come out and experience our awesome market.&nbsp\; <strong>Rain or Shine</strong>
LOCATION:Old Smokey Road\, Blairsville GA
UID:e.256.52674
SEQUENCE:3
DTSTAMP:20260420T010439Z
URL:https://members.visitblairsvillega.com/events/details/union-county-farmers-market-06-07-2016-52674
END:VEVENT

END:VCALENDAR
