BEGIN:VCALENDAR
VERSION:2.0
PRODID:-//ChamberMaster//Event Calendar 2.0//EN
METHOD:PUBLISH
X-PUBLISHED-TTL:P3D
REFRESH-INTERVAL:P3D
CALSCALE:GREGORIAN
BEGIN:VEVENT
DTSTART:20170729T110000Z
DTEND:20170729T170000Z
X-MICROSOFT-CDO-ALLDAYEVENT:FALSE
SUMMARY:Union County Farmers Market
DESCRIPTION:Green Bean Festival. Come out and experience our awesome market.  Rain or Shine
X-ALT-DESC;FMTTYPE=text/html:Green Bean Festival. Come out and experience our awesome market.&nbsp\; <strong>Rain or Shine</strong>
LOCATION:Old Smokey Road\, Blairsville GA
UID:e.256.73075
SEQUENCE:3
DTSTAMP:20260419T213042Z
URL:https://members.visitblairsvillega.com/events/details/union-county-farmers-market-07-29-2017-73075
END:VEVENT

END:VCALENDAR
