BEGIN:VCALENDAR
VERSION:2.0
PRODID:-//ChamberMaster//Event Calendar 2.0//EN
METHOD:PUBLISH
X-PUBLISHED-TTL:P3D
REFRESH-INTERVAL:P3D
CALSCALE:GREGORIAN
BEGIN:VEVENT
DTSTART:20170919T180000Z
DTEND:20170919T220000Z
X-MICROSOFT-CDO-ALLDAYEVENT:FALSE
SUMMARY:Union County Farmers Market
DESCRIPTION:Beans\, Greens & Cornbread. Come out and experience our awesome market.  Rain or Shine
X-ALT-DESC;FMTTYPE=text/html:Beans\, Greens &amp\; Cornbread. Come out and experience our awesome market.&nbsp\; <strong>Rain or Shine</strong>
LOCATION:Old Smokey Road\, Blairsville GA
UID:e.256.73103
SEQUENCE:3
DTSTAMP:20260419T175838Z
URL:https://members.visitblairsvillega.com/events/details/union-county-farmers-market-09-19-2017-73103
END:VEVENT

END:VCALENDAR
