BEGIN:VCALENDAR
VERSION:2.0
PRODID:-//ChamberMaster//Event Calendar 2.0//EN
METHOD:PUBLISH
X-PUBLISHED-TTL:P3D
REFRESH-INTERVAL:P3D
CALSCALE:GREGORIAN
BEGIN:VEVENT
DTSTART:20150926T150000Z
DTEND:20150926T180000Z
X-MICROSOFT-CDO-ALLDAYEVENT:FALSE
SUMMARY:UNION COUNTY GOP ANNUAL BAR B QUE
DESCRIPTION:DOOR PRIZES**BAKE SALE***SPECIAL GUESTS AND BAR-B-QUE.
X-ALT-DESC;FMTTYPE=text/html:<span style="font-size:14px\;"><span style="font-family: comic sans ms\;"><span style="color: red\;">DOOR PRIZES**BAKE SALE***SPECIAL GUESTS AND BAR-B-QUE.</span></span></span><br />\n&nbsp\;
LOCATION:Haralson Civic Center Blairsville\, Georgia
UID:e.256.44182
SEQUENCE:3
DTSTAMP:20260423T121752Z
URL:https://members.visitblairsvillega.com/events/details/union-county-gop-annual-bar-b-que-09-26-2015-44182
END:VEVENT

END:VCALENDAR
