BEGIN:VCALENDAR
VERSION:2.0
PRODID:-//ChamberMaster//Event Calendar 2.0//EN
METHOD:PUBLISH
X-PUBLISHED-TTL:P3D
REFRESH-INTERVAL:P3D
CALSCALE:GREGORIAN
BEGIN:VEVENT
DTSTART:20140405T140000Z
DTEND:20140405T200000Z
X-MICROSOFT-CDO-ALLDAYEVENT:FALSE
SUMMARY:Union County Historical Society Open House & Fundraiser
DESCRIPTION:Open House at The Old Courthouse\n\nDowntown On The Square \n\nSaturday\, April 5th\, 2014\,10:00 am to 4:00 pm. \n\n\nJoin the festivities on the lawn of The Old Courthouse for Music\, Food\, Auction\, Merchandise and Gift Items for sale & activities for the kids. Tours of the Old Courthouse.\n\n\n\nIf you would like to bake something for our bake sale\, please call Frances Partin at 706-745-2078. If you have an item that you would like to donate for the merchandise and gift sale\, please call Joanne at the Historical Society - 706-745-5493.
X-ALT-DESC;FMTTYPE=text/html:<div style="text-align: center\;"><strong>Open House at The Old Courthouse<br />\nDowntown On The Square </strong></div>\n\n<div style="text-align: center\;"><strong>Saturday\, April 5th\, 2014\,10:00 am to 4:00 pm. </strong></div>\n<br />\nJoin the festivities on the lawn of The Old Courthouse for Music\, Food\, Auction\, Merchandise and Gift Items for sale &amp\; activities for the kids. Tours of the Old Courthouse.<br />\n<br />\nIf you would like to bake something for our bake sale\, please call Frances Partin at 706-745-2078. If you have an item that you would like to donate for the merchandise and gift sale\, please call Joanne at the Historical Society - 706-745-5493.
LOCATION:The Old Courthouse Downtown on the Square Blairsville\, Ga
UID:e.256.23400
SEQUENCE:3
DTSTAMP:20260424T133739Z
URL:https://members.visitblairsvillega.com/events/details/union-county-historical-society-open-house-fundraiser-04-05-2014-23400
END:VEVENT

END:VCALENDAR
