BEGIN:VCALENDAR
VERSION:2.0
PRODID:-//ChamberMaster//Event Calendar 2.0//EN
METHOD:PUBLISH
X-PUBLISHED-TTL:P3D
REFRESH-INTERVAL:P3D
CALSCALE:GREGORIAN
BEGIN:VEVENT
DTSTART:20151212T000000Z
DTEND:20151212T020000Z
X-MICROSOFT-CDO-ALLDAYEVENT:FALSE
SUMMARY:Union County Historical Society presents "Christmas Favorites Meet Broadway"
DESCRIPTION:William returns to the Old Courthouse for his 7th solo performance repeating his Christmas concert of last year.\n\nWilliam's music interest began in high school as a member of the band "The Berets". He later developed into performing songs from Broadway to classic rock to contemporary and pop music.\n\nThe concert will include the Christmas Classics: "White Christmas"\, "Chestnuts  Roasting On An Open Fire"\, "Mary Did You Know"\, " I'll Be Home For Christmas"\, " Do You Hear What I Hear ?"\, and many other classic songs.\n\nThe concert will also feature two songs from Broadway\, family favorites from Fiddler on the Roof  - "Sunrise Sunset" and from Phantom of the Opera - "Music of the Night".\n\nWilliam will also perform  his original Christmas song \, "It's Christmas Time Of The Year" on the piano.\n\nSo  come and join us for the Friday night Christmas concert this holiday weekend\, bring your friends - make new friends. There is never an admission charge to concerts presented by the Union County Historical Society.  The musicians donate their time and talents.
X-ALT-DESC;FMTTYPE=text/html:<span style="font-size: 12pt\;"><span style="font-family: helvetica\,sans-serif\;"><span style="color: black\;">William returns to the Old Courthouse for his 7th solo performance repeating his Christmas concert of last year.<br />\nWilliam&#39\;s music interest began in high school as a member of the band &ldquo\;The Berets&rdquo\;. He later developed into performing songs from Broadway to classic rock to contemporary and pop music.<br />\nThe concert will include the Christmas Classics: &ldquo\;White Christmas&rdquo\;\, &ldquo\;Chestnuts&nbsp\; Roasting On An Open Fire&rdquo\;\, &ldquo\;Mary Did You Know&rdquo\;\, &ldquo\; I&rsquo\;ll Be Home For Christmas&rdquo\;\, &ldquo\; Do You Hear What I Hear ?&rdquo\;\, and many other classic songs.<br />\nThe concert will also feature two songs from Broadway\, family favorites from Fiddler on the Roof&nbsp\; - &ldquo\;Sunrise Sunset&rdquo\; and from Phantom of the Opera - &ldquo\;Music of the Night&rdquo\;.<br />\nWilliam will also perform&nbsp\; his original Christmas song \, &ldquo\;It&rsquo\;s Christmas Time Of The Year&rdquo\; on the piano.<br />\nSo&nbsp\; come and join us for the Friday night Christmas concert this holiday weekend\, bring your friends - make new friends. There is never an admission charge to concerts presented by the Union County Historical Society.&nbsp\; The musicians donate their time and talents.&nbsp\; </span></span></span><br />\n&nbsp\;
LOCATION:In the Old Courthouse on the square in Blairsville.
UID:e.256.45168
SEQUENCE:3
DTSTAMP:20260421T074830Z
URL:https://members.visitblairsvillega.com/events/details/union-county-historical-society-presents-christmas-favorites-meet-broadway-12-11-2015-45168
END:VEVENT

END:VCALENDAR
