BEGIN:VCALENDAR
VERSION:2.0
PRODID:-//ChamberMaster//Event Calendar 2.0//EN
METHOD:PUBLISH
X-PUBLISHED-TTL:P3D
REFRESH-INTERVAL:P3D
CALSCALE:GREGORIAN
BEGIN:VEVENT
DTSTART:20150108T170000Z
DTEND:20150108T180000Z
X-MICROSOFT-CDO-ALLDAYEVENT:FALSE
SUMMARY:Union County Interagency Group
DESCRIPTION:The Interagency Group welcomes all non- profit agencies and businesses that would like to help the people of Union County. We meet the second Thursday of each month at the Civic Center at Noon. Networking has solved many problems. We also provide a Resource List for people to find the names and phone numbers of agencies and businesses to assist them.
X-ALT-DESC;FMTTYPE=text/html:The Interagency Group welcomes all non- profit agencies and businesses that would like to help the people of Union County. We meet the second Thursday of each month at the Civic Center at Noon. Networking has solved many problems. We also provide a Resource List for people to find the names and phone numbers of agencies and businesses to assist them.
LOCATION:Civic Center
UID:e.256.33618
SEQUENCE:3
DTSTAMP:20260424T003016Z
URL:https://members.visitblairsvillega.com/events/details/union-county-interagency-group-01-08-2015-33618
END:VEVENT

END:VCALENDAR
