BEGIN:VCALENDAR
VERSION:2.0
PRODID:-//ChamberMaster//Event Calendar 2.0//EN
METHOD:PUBLISH
X-PUBLISHED-TTL:P3D
REFRESH-INTERVAL:P3D
CALSCALE:GREGORIAN
BEGIN:VEVENT
DTSTART:20151008T160000Z
DTEND:20151008T170000Z
X-MICROSOFT-CDO-ALLDAYEVENT:FALSE
SUMMARY:Union County Interagency Group Meeting
DESCRIPTION:Let's harvest some new ideas for our businesses and network with each other.\n\nThe monthly programs are presented by different organizations teaching us information to help our organizations and businesses.  This month the speaker is Melinda Grey from Almost There\, Inc.   See you there!!!
X-ALT-DESC;FMTTYPE=text/html:<span style="font-size: 8.5pt\;"><span style="font-family: arial\,sans-serif\;"><span style="color: rgb(80\, 80\, 80)\;">Let&#39\;s harvest some new ideas for our businesses and network with each other.</span></span></span><br />\n<span style="font-size: 8.5pt\;"><span style="font-family: arial\,sans-serif\;"><span style="color: rgb(80\, 80\, 80)\;">The monthly&nbsp\;programs&nbsp\;are presented by different organizations teaching us information to help our organizations and businesses.&nbsp\; <strong>This month the speaker is Melinda Grey from Almost There\, Inc.&nbsp\;&nbsp\;</strong> See you there!!!</span></span></span>
LOCATION:Blairsville Civic Center. Bring a lunch if you wish.
UID:e.256.41413
SEQUENCE:3
DTSTAMP:20260423T102849Z
URL:https://members.visitblairsvillega.com/events/details/union-county-interagency-group-meeting-10-08-2015-41413
END:VEVENT

END:VCALENDAR
