BEGIN:VCALENDAR
VERSION:2.0
PRODID:-//ChamberMaster//Event Calendar 2.0//EN
METHOD:PUBLISH
X-PUBLISHED-TTL:P3D
REFRESH-INTERVAL:P3D
CALSCALE:GREGORIAN
BEGIN:VEVENT
DTSTART:20140123T230000Z
DTEND:20140124T000000Z
X-MICROSOFT-CDO-ALLDAYEVENT:FALSE
SUMMARY:Union County Lions Club
DESCRIPTION:Union County Lions Club meets the 2nd & 4th Thursday of every month at Steve's Steakhouse (the Cookie Jar)
X-ALT-DESC;FMTTYPE=text/html:Union County Lions Club meets the 2nd &amp\; 4th Thursday of every month at Steve&#39\;s Steakhouse (the Cookie Jar)
LOCATION:Steve's Steakhouse
UID:e.256.16801
SEQUENCE:3
DTSTAMP:20260424T181459Z
URL:https://members.visitblairsvillega.com/events/details/union-county-lions-club-01-23-2014-16801
END:VEVENT

END:VCALENDAR
