BEGIN:VCALENDAR
VERSION:2.0
PRODID:-//ChamberMaster//Event Calendar 2.0//EN
METHOD:PUBLISH
X-PUBLISHED-TTL:P3D
REFRESH-INTERVAL:P3D
CALSCALE:GREGORIAN
BEGIN:VEVENT
DTSTART:20161127T010000Z
DTEND:20161126T190000Z
X-MICROSOFT-CDO-ALLDAYEVENT:FALSE
SUMMARY:Union County Lions Club Annual Trash/Treasure sales
DESCRIPTION:The Lions Club is selling booth spaces for this event and is open to the public for purchasing items from the many vendors.
X-ALT-DESC;FMTTYPE=text/html:The Lions Club is selling booth spaces for this event and is open to the public for purchasing items from the many vendors.
LOCATION:Union County Civic Center on Welbourn street (one block off the square in Blairsville)
UID:e.256.55540
SEQUENCE:3
DTSTAMP:20260420T114044Z
URL:https://members.visitblairsvillega.com/events/details/union-county-lions-club-annual-trash-treasure-sales-11-26-2016-55540
END:VEVENT

END:VCALENDAR
