BEGIN:VCALENDAR
VERSION:2.0
PRODID:-//ChamberMaster//Event Calendar 2.0//EN
METHOD:PUBLISH
X-PUBLISHED-TTL:P3D
REFRESH-INTERVAL:P3D
CALSCALE:GREGORIAN
BEGIN:VEVENT
DTSTART:20140508T223000Z
DTEND:20140508T223000Z
X-MICROSOFT-CDO-ALLDAYEVENT:FALSE
SUMMARY:Union County Lions Club Meeting
DESCRIPTION:Union County Lions Club meets the 2nd & 4th Thursday nights of every month at Steve's Steakhouse (The Cookie Jar)
X-ALT-DESC;FMTTYPE=text/html:Union County Lions Club meets the 2nd &amp\; 4th Thursday nights of every month at Steve&#39\;s Steakhouse (The Cookie Jar)
LOCATION:Steve's SteakHouse - The Cookie Jar
UID:e.256.23219
SEQUENCE:3
DTSTAMP:20260424T122449Z
URL:https://members.visitblairsvillega.com/events/details/union-county-lions-club-meeting-05-08-2014-23219
END:VEVENT

END:VCALENDAR
