BEGIN:VCALENDAR
VERSION:2.0
PRODID:-//ChamberMaster//Event Calendar 2.0//EN
METHOD:PUBLISH
X-PUBLISHED-TTL:P3D
REFRESH-INTERVAL:P3D
CALSCALE:GREGORIAN
BEGIN:VEVENT
DTSTART:20141211T233000Z
DTEND:20141212T003000Z
X-MICROSOFT-CDO-ALLDAYEVENT:FALSE
SUMMARY:Union County Lions Club Meeting
DESCRIPTION:The last Union County Lions Club meeting for 2014 will take place at GnG Bakery & Cafe.
X-ALT-DESC;FMTTYPE=text/html:The last Union County Lions Club meeting for 2014 will take place at GnG Bakery &amp\; Cafe.
LOCATION:GnG Bakery & Cafe 262 Hwy 515 E.
UID:e.256.27948
SEQUENCE:3
DTSTAMP:20260424T034200Z
URL:https://members.visitblairsvillega.com/events/details/union-county-lions-club-meeting-12-11-2014-27948
END:VEVENT

END:VCALENDAR
