BEGIN:VCALENDAR
VERSION:2.0
PRODID:-//ChamberMaster//Event Calendar 2.0//EN
METHOD:PUBLISH
X-PUBLISHED-TTL:P3D
REFRESH-INTERVAL:P3D
CALSCALE:GREGORIAN
BEGIN:VEVENT
DTSTART:20171104T130000Z
DTEND:20171104T190000Z
X-MICROSOFT-CDO-ALLDAYEVENT:FALSE
SUMMARY:Union County Lions Club Trash to Treasure Sale
DESCRIPTION:The Union County Lions Club will be holding its Trash to Treasure sale on Saturday November 4\, 2017 at the Union County Civic Center on Wellborn Street\, Blairsville.  There will be over 40 vendors with all kinds of items. Come and enjoy the indoor shopping in a heated facility.  The time of the event is 9 AM to 3 PM and those that would like to take advantage of early shopping can come at 8AM for a fee of $1 per person. Admission is free after 9 AM.  As always\, the Lions kitchen will have a selection of tasty food for sale.\n\n\n\nFor any questions and to reserve a space call Mary Arnold at 706-745-8053
X-ALT-DESC;FMTTYPE=text/html:The Union County Lions Club will be holding its Trash to Treasure sale on Saturday November 4\, 2017 at the Union County Civic Center on Wellborn Street\, Blairsville.&nbsp\; There will be over 40 vendors with all kinds of items. Come and enjoy the indoor shopping in a heated facility.&nbsp\; The time of the event is 9 AM to 3 PM and those that would like to take advantage of early shopping can come at 8AM for a fee of $1 per person. Admission is free after 9 AM.&nbsp\; As always\, the Lions kitchen will have a selection of tasty food for sale.<br />\n<br />\nFor any questions and to reserve a space call Mary Arnold at 706-745-8053&nbsp\;
LOCATION:Union County Civic Center 165 Welborn Street Blairsville\, GA 30512
UID:e.256.76171
SEQUENCE:3
DTSTAMP:20260419T142335Z
URL:https://members.visitblairsvillega.com/events/details/union-county-lions-club-trash-to-treasurer-sale-76171
END:VEVENT

END:VCALENDAR
