BEGIN:VCALENDAR
VERSION:2.0
PRODID:-//ChamberMaster//Event Calendar 2.0//EN
METHOD:PUBLISH
X-PUBLISHED-TTL:P3D
REFRESH-INTERVAL:P3D
CALSCALE:GREGORIAN
BEGIN:VEVENT
DTSTART:20160227T130000Z
DTEND:20160227T200000Z
X-MICROSOFT-CDO-ALLDAYEVENT:FALSE
SUMMARY:Union County Lions Trash & Treasure
DESCRIPTION:Union County Lions Trash & Treasure Sale
X-ALT-DESC;FMTTYPE=text/html:Union County Lions Trash &amp\; Treasure Sale
LOCATION:Civic Center Blairsville
UID:e.256.49457
SEQUENCE:3
DTSTAMP:20260421T040142Z
URL:https://members.visitblairsvillega.com/events/details/union-county-lions-trash-treasure-02-27-2016-49457
END:VEVENT

END:VCALENDAR
