BEGIN:VCALENDAR
VERSION:2.0
PRODID:-//ChamberMaster//Event Calendar 2.0//EN
METHOD:PUBLISH
X-PUBLISHED-TTL:P3D
REFRESH-INTERVAL:P3D
CALSCALE:GREGORIAN
BEGIN:VEVENT
DTSTART:20160402T140000Z
DTEND:20160402T160000Z
X-MICROSOFT-CDO-ALLDAYEVENT:FALSE
SUMMARY:Union County Recycling Event
DESCRIPTION:Keep Union County Beautiful will hold this event in the parking lot of North Georgia Technical College located at 121 Meeks Avenue\, Blairsville\, GA 30512.\n\nA reminder: a volunteer donation of $5.00 per car will be requested with all funds going to the Mountain Animal Shelter. They will have their volunteer there to collect the donation. Over the last three years we have been able to supply them with over $2\,500 to support animals until they find their "forever" homes. We appreciate our partnership with the Mountain Shelter!\n\nAt this event we WILL take televisions for a $20.00 fee and old CRT monitors will cost $10. This is what it costs to recycle TV's and monitors due to the high amounts of mercury in the glass.
X-ALT-DESC;FMTTYPE=text/html:<p class="MsoNormal" style="margin: 0in 0in 0pt\;"><span style="font-size:12px\;"><span style="font-family: verdana\;"><span style="color: green\;">Keep Union County Beautiful will hold this event in the parking lot of </span><span style="color: red\;">North Georgia Technical College located at 121 Meeks Avenue\, Blairsville\, GA 30512.</span><br />\n<span style="color: green\;">A reminder: a volunteer donation of $5.00 per car will be requested with all funds going to the Mountain Animal Shelter. They will have their volunteer there to collect the donation. Over the last three years we have been able to supply them with over $2\,500 to support animals until they find their &quot\;forever&quot\; homes. We appreciate our partnership with the Mountain Shelter!</span><br />\n<span style="font-weight: normal\;"><span style="color: green\;">At this event we </span></span><span style="color: green\;">WILL</span><span style="font-weight: normal\;"><span style="color: green\;"> take televisions for a </span></span><span style="color: green\;">$20.00 fee and old CRT monitors will cost $10</span><span style="font-weight: normal\;"><span style="color: green\;">. This is what it costs to recycle TV&#39\;s and monitors due to the high amounts of mercury in the glass. </span></span></span></span><br />\n&nbsp\;</p>\n
LOCATION:North Georgia Technical College 121 Meeks Ave. Blairsville (Parking lot)
UID:e.256.50555
SEQUENCE:3
DTSTAMP:20260421T002235Z
URL:https://members.visitblairsvillega.com/events/details/union-county-recycling-event-04-02-2016-50555
END:VEVENT

END:VCALENDAR
