BEGIN:VCALENDAR
VERSION:2.0
PRODID:-//ChamberMaster//Event Calendar 2.0//EN
METHOD:PUBLISH
X-PUBLISHED-TTL:P3D
REFRESH-INTERVAL:P3D
CALSCALE:GREGORIAN
BEGIN:VEVENT
DTSTART:20140322T140000Z
DTEND:20140322T140000Z
X-MICROSOFT-CDO-ALLDAYEVENT:FALSE
SUMMARY:Union County Republican Party Monthly Meeting
DESCRIPTION:The Union County Republican Party has changed to a more central location for its monthly meetings. It will hold its next regular monthly meeting at the new location\, Pat Haralson Memorial Civic Center\, Conference Room\,165 Welborn St.\, Blairsville\, at 10:00 AM\, on Saturday\, March 22\, 2014. All local candidates who qualified for the Republican Primary ballot have been invited to speak about why they are running for office and what they hope to accomplish during their term. There will also be updates from several elected county officials and others. As always\, this monthly meeting is open to everyone seeking to gather more information and make well-informed choices at the ballot box. If you need further information\, please contact UCRP Chair Billy Turnage at 706-745-5125 or email Chairman@UnionGOP.org
X-ALT-DESC;FMTTYPE=text/html:The Union County Republican Party has changed to a more central location for its monthly meetings. It will hold its next regular monthly meeting at the new location\, Pat Haralson Memorial Civic Center\, Conference Room\,165 Welborn St.\, Blairsville\, at 10:00 AM\, on Saturday\, March 22\, 2014. All local candidates who qualified for the Republican Primary ballot have been invited to speak about why they are running for office and what they hope to accomplish during their term. There will also be updates from several elected county officials and others. As always\, this monthly meeting is open to everyone seeking to gather more information and make well-informed choices at the ballot box. If you need further information\, please contact UCRP Chair Billy Turnage at 706-745-5125 or email Chairman@UnionGOP.org
LOCATION:Pat Haralson Memorial Civic Center\, Conference Room 165 Welborn Street Blairsville\, GA
UID:e.256.23389
SEQUENCE:3
DTSTAMP:20260424T152400Z
URL:https://members.visitblairsvillega.com/events/details/union-county-republican-party-monthly-meeting-03-22-2014-23389
END:VEVENT

END:VCALENDAR
