BEGIN:VCALENDAR
VERSION:2.0
PRODID:-//ChamberMaster//Event Calendar 2.0//EN
METHOD:PUBLISH
X-PUBLISHED-TTL:P3D
REFRESH-INTERVAL:P3D
CALSCALE:GREGORIAN
BEGIN:VEVENT
DTSTART:20141212T233000Z
DTEND:20141213T020000Z
X-MICROSOFT-CDO-ALLDAYEVENT:FALSE
SUMMARY:Union County Republican Party's Christmas Dinner
DESCRIPTION:Help us celebrate a GOP election year victory...\n\nOur guest speaker will be Mr. Will Kremer\, from the state GOP who works with the young Republicans throughout the state. \n\n\n\nWe will also have Christmas carols and entertainment with our chaplain David Braddy.\n\n Buffet selections include: \n\nBoneless Fried Chicken w/Pepper Gravy\n\nPot Roast\n\nMashed Potatoes & Gravy\n\nBlack Eyed Peas/Green Beans\n\nAssorted Rolls\n\nDessert
X-ALT-DESC;FMTTYPE=text/html:<span style="font-family: apple chancery\,serif\;"><span style="font-size: 14pt\;">Help us celebrate a GOP election year victory</span></span>...<br />\n<span style="font-family: apple chancery\,serif\;">Our guest speaker will be Mr. Will Kremer\, from the state GOP who works with the young Republicans throughout the state. </span><br />\n<br />\n<span style="font-family: apple chancery\,serif\;">We will also have Christmas carols and entertainment with our chaplain David Braddy.</span><br />\n<span style="font-family: apple chancery\,serif\;">&nbsp\;Buffet selections include: </span><br />\n<span style="font-family: apple chancery\,serif\;">Boneless Fried Chicken w/Pepper Gravy</span><br />\n<span style="font-family: apple chancery\,serif\;">Pot Roast</span><br />\n<span style="font-family: apple chancery\,serif\;">Mashed Potatoes &amp\; Gravy</span><br />\n<span style="font-family: apple chancery\,serif\;">Black Eyed Peas/Green Beans</span><br />\n<span style="font-family: apple chancery\,serif\;">Assorted Rolls</span><br />\n<span style="font-family: apple chancery\,serif\;">Dessert</span>
LOCATION:The Lodge at Copperhead 171 Copperhead Pkwy. Blairsville
UID:e.256.28084
SEQUENCE:3
DTSTAMP:20260424T033846Z
URL:https://members.visitblairsvillega.com/events/details/union-county-republican-party-s-christmas-dinner-12-12-2014-28084
END:VEVENT

END:VCALENDAR
