BEGIN:VCALENDAR
VERSION:2.0
PRODID:-//ChamberMaster//Event Calendar 2.0//EN
METHOD:PUBLISH
X-PUBLISHED-TTL:P3D
REFRESH-INTERVAL:P3D
CALSCALE:GREGORIAN
BEGIN:VEVENT
DTSTART:20150411T220000Z
DTEND:20150412T035500Z
X-MICROSOFT-CDO-ALLDAYEVENT:FALSE
SUMMARY:Union County Rotary Community Awards Gala
DESCRIPTION:2nd Annual Community Awards Gala
X-ALT-DESC;FMTTYPE=text/html:2nd Annual Community Awards Gala
LOCATION:North Georgia Technical College 121 Meeks Ave.
UID:e.256.28043
SEQUENCE:3
DTSTAMP:20260423T200421Z
URL:https://members.visitblairsvillega.com/events/details/union-county-rotary-community-awards-gala-04-11-2015-28043
END:VEVENT

END:VCALENDAR
