BEGIN:VCALENDAR
VERSION:2.0
PRODID:-//ChamberMaster//Event Calendar 2.0//EN
METHOD:PUBLISH
X-PUBLISHED-TTL:P3D
REFRESH-INTERVAL:P3D
CALSCALE:GREGORIAN
BEGIN:VEVENT
DTSTART:20140920T160000Z
DTEND:20140921T000000Z
X-MICROSOFT-CDO-ALLDAYEVENT:FALSE
SUMMARY:Union County Saddle Club Open Show
DESCRIPTION:Union County Saddle Club Open Show Saturday\, September 20th\n\nStarts with running events followed by Western\, English\, and racking. Concessions will be available throughout the day\, and there is no admission fee for spectators.
X-ALT-DESC;FMTTYPE=text/html:Union County Saddle Club Open Show Saturday\, September 20th<br />\nStarts with running events followed by Western\, English\, and racking. Concessions will be available throughout the day\, and there is no admission fee for spectators.
LOCATION:Union County Saddle Club Arena 73 Saddle Club Drive corner of Hwy 325 Blairsville\, GA
UID:e.256.27413
SEQUENCE:3
DTSTAMP:20260424T063048Z
URL:https://members.visitblairsvillega.com/events/details/union-county-saddle-club-open-show-09-20-2014-27413
END:VEVENT

END:VCALENDAR
