BEGIN:VCALENDAR
VERSION:2.0
PRODID:-//ChamberMaster//Event Calendar 2.0//EN
METHOD:PUBLISH
X-PUBLISHED-TTL:P3D
REFRESH-INTERVAL:P3D
CALSCALE:GREGORIAN
BEGIN:VEVENT
DTSTART:20161008T130000Z
DTEND:20161008T210000Z
X-MICROSOFT-CDO-ALLDAYEVENT:FALSE
SUMMARY:Union County Sorghum Festival\, Lions food booth
DESCRIPTION:Lions food booth in the food section of the festival\, Hamburgers\, hot dogs\, chips\, drinks and deserts.
X-ALT-DESC;FMTTYPE=text/html:Lions food booth in the food section of the festival\, Hamburgers\, hot dogs\, chips\, drinks and deserts.
LOCATION:Meeks park in Blairsville\, Ga. 30512
UID:e.256.55539
SEQUENCE:3
DTSTAMP:20260420T131839Z
URL:https://members.visitblairsvillega.com/events/details/union-county-sorghum-festival-lions-food-booth-10-08-2016-55539
END:VEVENT

END:VCALENDAR
